BEGIN:VCALENDAR
VERSION:2.0
PRODID:-//urwahl3000//gruene-ismaning.de//DE
CALSCALE:GREGORIAN
BEGIN:VEVENT
DTSTART:20251201T200000
DTEND:20251201T223000
LOCATION: GH Neuwirt\, Schloßstr. 7
DTSTAMP:20251201T200000
SUMMARY:Grüner Stammtisch
URL;VALUE=URI:https://gruene-ismaning.de/termin/gruener-stammtisch-8/
DESCRIPTION:Am <strong>Montag, 01. Dezember 2025 </strong>laden die Ismaninger Grünen zum Stammtisch<strong> ab 20 </strong><strong>Uhr beim GH Neuwirt</strong>

Wir treffen uns wieder, um aktuelle Themen rund um die Ismaninger Kommunalpolitik miteinander zu diskutieren. <span data-olk-copy-source="MessageBody">Ihr wollt uns und unseren Bürgermeisterkandidaten Georg Everwand kennenlernen, habt ein spezielles Thema auf dem Herzen oder möchtet euch engagieren? Kommt einfach vorbei, alle sind herzlich eingeladen.</span>

Wir freuen uns auf Euch!

Herzliche Grüße

Stephanie M., Oliver, Julia, Josef und Markus
UID:20251201T200000-20251201T200000-20251201T223000
END:VEVENT
END:VCALENDAR